BEGIN:VCALENDAR
VERSION:2.0
PRODID:-//Haiti Cultural Exchange - ECPv6.15.20//NONSGML v1.0//EN
CALSCALE:GREGORIAN
METHOD:PUBLISH
X-WR-CALNAME:Haiti Cultural Exchange
X-ORIGINAL-URL:https://haiticulturalx.org
X-WR-CALDESC:Events for Haiti Cultural Exchange
REFRESH-INTERVAL;VALUE=DURATION:PT1H
X-Robots-Tag:noindex
X-PUBLISHED-TTL:PT1H
BEGIN:VTIMEZONE
TZID:America/New_York
BEGIN:DAYLIGHT
TZOFFSETFROM:-0500
TZOFFSETTO:-0400
TZNAME:EDT
DTSTART:20230312T070000
END:DAYLIGHT
BEGIN:STANDARD
TZOFFSETFROM:-0400
TZOFFSETTO:-0500
TZNAME:EST
DTSTART:20231105T060000
END:STANDARD
BEGIN:DAYLIGHT
TZOFFSETFROM:-0500
TZOFFSETTO:-0400
TZNAME:EDT
DTSTART:20240310T070000
END:DAYLIGHT
BEGIN:STANDARD
TZOFFSETFROM:-0400
TZOFFSETTO:-0500
TZNAME:EST
DTSTART:20241103T060000
END:STANDARD
BEGIN:DAYLIGHT
TZOFFSETFROM:-0500
TZOFFSETTO:-0400
TZNAME:EDT
DTSTART:20250309T070000
END:DAYLIGHT
BEGIN:STANDARD
TZOFFSETFROM:-0400
TZOFFSETTO:-0500
TZNAME:EST
DTSTART:20251102T060000
END:STANDARD
BEGIN:DAYLIGHT
TZOFFSETFROM:-0500
TZOFFSETTO:-0400
TZNAME:EDT
DTSTART:20260308T070000
END:DAYLIGHT
BEGIN:STANDARD
TZOFFSETFROM:-0400
TZOFFSETTO:-0500
TZNAME:EST
DTSTART:20261101T060000
END:STANDARD
END:VTIMEZONE
BEGIN:VEVENT
DTSTART;TZID=America/New_York:20251213T120000
DTEND;TZID=America/New_York:20251213T200000
DTSTAMP:20260421T182325
CREATED:20251121T235737Z
LAST-MODIFIED:20251201T205306Z
UID:17747-1765627200-1765656000@haiticulturalx.org
SUMMARY:Bazaar Kreyòl Holiday Marketplace
DESCRIPTION:Join HCX for Bazaar Kreyòl – our annual holiday marketplace! Purchase unique artwork from the HCX Collection and artisanal Haitian goods for the holidays from a curated array of Haitian vendors.\nSaturday\, December 13\, 2025\n12-8pm\n35 Lafayette Ave\, Brooklyn\, NY 11217 \nCelebrate the season by supporting HCX and Haitian artisans and makers. Enjoy a festive afternoon of food\, drinks\, and music while shopping for a good cause! Take home a unique gift from The HCX Boutik\, a specially curated selection of art and artisan craftwork benefiting Haiti Cultural Exchange. \nTake a look at the amazing brands joining us at Bazaar Kreyòl this year: \n• ARTisANETWORK \n• Atelier Mahalia Stines \n• Bijou Lakay \n• Cantave de Saint Marc Coffee \n• Haitian Bae \n• KADOKÉLÉ \n• Pikliz Please \n• Se Lakay \n• VB3 \n• Yoto and Claire
URL:https://haiticulturalx.org/event/bazaar-kreyol-holiday-marketplace/
LOCATION:Haiti Cultural Exchange\, 35 Lafayette Ave\, Brooklyn\, NY\, 11217\, United States
CATEGORIES:Bazaar Kreyòl
ATTACH;FMTTYPE=image/png:https://haiticulturalx.org/wp-content/uploads/2025/11/HCX_FY26_Web_Event_Feat_BAZAARKREYOL.png
END:VEVENT
BEGIN:VEVENT
DTSTART;TZID=America/New_York:20241214T120000
DTEND;TZID=America/New_York:20241214T190000
DTSTAMP:20260421T182325
CREATED:20241120T034209Z
LAST-MODIFIED:20241205T034939Z
UID:15580-1734177600-1734202800@haiticulturalx.org
SUMMARY:Bazaar Kreyòl Marketplace & Exhibition
DESCRIPTION:Join HCX for Bazaar Kreyòl – our annual holiday marketplace! Purchase unique artwork from The HCX Collection and artisanal Haitian goods for the holidays from a curated array of Haitian vendors. Celebrate the season by supporting HCX and Haitian artisans and makers. Enjoy a festive afternoon of food\, drinks\, and music while shopping for a good cause! \nTake a look at the amazing brands joining us at Bazaar Kreyòl this year:\nARTisANETWORK • Askanya Chocolates • Axelle Liautaud • Brooklyn Loves Haiti \nEarthshine Cafe • From The Arxhive • Haitian Bae • KADOKÉLÉ • Makini Armand All Natural \nPapa Rozier Farms • Pwavarts and T-Rasta LLC • VB3 • VivLiv Books • ZILE’M \n— \nMarketplace\nSaturday\, December 14\, 2024\n12-7pm\nHaiti Cultural Exchange\n558 St Johns Pl\, Brooklyn NY\, 11238 \n— \nThe HCX Collection Exhibition & Art Sale \nTake home a unique gift from The HCX Collection\, a special art sale to benefit Haiti Cultural Exchange featuring photography\, prints\, paintings\, and metal work. \nOpening: December 5\, 2024\nOn View: December 5\, 2024 – January 5\, 2025\nThursday – Sunday\n1-6pm\nHaiti Cultural Exchange\n558 St Johns Pl\, Brooklyn NY\, 11238 \nLearn more about art in The HCX Collection exhibition here.  \n— \n 
URL:https://haiticulturalx.org/event/bazaar-kreyol-marketplace-exhibition/
LOCATION:Haiti Cultural Exchange\, 35 Lafayette Ave\, Brooklyn\, NY\, 11217\, United States
CATEGORIES:Bazaar Kreyòl
ATTACH;FMTTYPE=image/png:https://haiticulturalx.org/wp-content/uploads/2024/11/HCX_Graphics_FY25_BazaarKreyol_HCXEvent.png
END:VEVENT
END:VCALENDAR