BEGIN:VCALENDAR
VERSION:2.0
PRODID:-//Haiti Cultural Exchange - ECPv6.15.20//NONSGML v1.0//EN
CALSCALE:GREGORIAN
METHOD:PUBLISH
X-ORIGINAL-URL:https://haiticulturalx.org
X-WR-CALDESC:Events for Haiti Cultural Exchange
REFRESH-INTERVAL;VALUE=DURATION:PT1H
X-Robots-Tag:noindex
X-PUBLISHED-TTL:PT1H
BEGIN:VTIMEZONE
TZID:America/New_York
BEGIN:DAYLIGHT
TZOFFSETFROM:-0500
TZOFFSETTO:-0400
TZNAME:EDT
DTSTART:20240310T070000
END:DAYLIGHT
BEGIN:STANDARD
TZOFFSETFROM:-0400
TZOFFSETTO:-0500
TZNAME:EST
DTSTART:20241103T060000
END:STANDARD
BEGIN:DAYLIGHT
TZOFFSETFROM:-0500
TZOFFSETTO:-0400
TZNAME:EDT
DTSTART:20250309T070000
END:DAYLIGHT
BEGIN:STANDARD
TZOFFSETFROM:-0400
TZOFFSETTO:-0500
TZNAME:EST
DTSTART:20251102T060000
END:STANDARD
BEGIN:DAYLIGHT
TZOFFSETFROM:-0500
TZOFFSETTO:-0400
TZNAME:EDT
DTSTART:20260308T070000
END:DAYLIGHT
BEGIN:STANDARD
TZOFFSETFROM:-0400
TZOFFSETTO:-0500
TZNAME:EST
DTSTART:20261101T060000
END:STANDARD
END:VTIMEZONE
BEGIN:VEVENT
DTSTART;TZID=America/New_York:20250515T170000
DTEND;TZID=America/New_York:20250515T210000
DTSTAMP:20260422T003947
CREATED:20250403T192915Z
LAST-MODIFIED:20250414T153202Z
UID:16708-1747328400-1747342800@haiticulturalx.org
SUMMARY:Haitian Flag Day Selebrasyon!
DESCRIPTION:In celebration of the 222nd anniversary of the Haitian Flag\, Haiti Cultural Exchange in partnership with the Prospect Park Alliance present a Haitian Flag Day Selebrasyon! \nThursday\, May 15\, 2025\n5 – 9pm\nperformance at 6:30pm\nProspect Park Boathouse\, 101 East Dr\, Brooklyn\, NY 11225 \nFeaturing live music by the world-famous & revered Haitian big band Tabou Combo\, dance performances\, artisanal vendors and more!   \nFeaturing artisan vendors:  \n\nFrom the Arxhive\, \nYoto and Claire\, \nVivLiv Books\, \nKreyol Soul Pieces\, \nZansèt Botanica\, \nBon Pâtés\, \nLakou Cafe\nand more!\n\nGet Tickets to Haitian Flag Day Selebrasyon here! »\n— \nThis event is in partnership with the Prospect Park Alliance. Prospect Park Alliance is the non-profit organization that sustains\, restores and advances Prospect Park\, Brooklyn’s Backyard\, in partnership with the City of New York. The Alliance provides critical staff and resources that keep the Park green and vibrant for the diverse communities that call Brooklyn home. Learn more at www.prospectpark.org.  
URL:https://haiticulturalx.org/event/haitian-flag-day-selebrasyon-2/
LOCATION:Prospect Park Boat House\, 101 East Dr.\, Brooklyn\, New York\, 11225
CATEGORIES:Haitian Flag Day Selebrasyon!
ATTACH;FMTTYPE=image/png:https://haiticulturalx.org/wp-content/uploads/2025/04/FY25_Graphics_FlagDaySelebrasyon_web_feature.png
END:VEVENT
END:VCALENDAR