BEGIN:VCALENDAR
VERSION:2.0
PRODID:-//Haiti Cultural Exchange - ECPv6.15.20//NONSGML v1.0//EN
CALSCALE:GREGORIAN
METHOD:PUBLISH
X-ORIGINAL-URL:https://haiticulturalx.org
X-WR-CALDESC:Events for Haiti Cultural Exchange
REFRESH-INTERVAL;VALUE=DURATION:PT1H
X-Robots-Tag:noindex
X-PUBLISHED-TTL:PT1H
BEGIN:VTIMEZONE
TZID:America/New_York
BEGIN:DAYLIGHT
TZOFFSETFROM:-0500
TZOFFSETTO:-0400
TZNAME:EDT
DTSTART:20230312T070000
END:DAYLIGHT
BEGIN:STANDARD
TZOFFSETFROM:-0400
TZOFFSETTO:-0500
TZNAME:EST
DTSTART:20231105T060000
END:STANDARD
BEGIN:DAYLIGHT
TZOFFSETFROM:-0500
TZOFFSETTO:-0400
TZNAME:EDT
DTSTART:20240310T070000
END:DAYLIGHT
BEGIN:STANDARD
TZOFFSETFROM:-0400
TZOFFSETTO:-0500
TZNAME:EST
DTSTART:20241103T060000
END:STANDARD
BEGIN:DAYLIGHT
TZOFFSETFROM:-0500
TZOFFSETTO:-0400
TZNAME:EDT
DTSTART:20250309T070000
END:DAYLIGHT
BEGIN:STANDARD
TZOFFSETFROM:-0400
TZOFFSETTO:-0500
TZNAME:EST
DTSTART:20251102T060000
END:STANDARD
END:VTIMEZONE
BEGIN:VEVENT
DTSTART;VALUE=DATE:20240912
DTEND;VALUE=DATE:20241118
DTSTAMP:20260421T135923
CREATED:20240917T034231Z
LAST-MODIFIED:20240920T230546Z
UID:15070-1726099200-1731887999@haiticulturalx.org
SUMMARY:Rasanbleman | Culture in Place: The Evolution of Haiti Cultural Exchange 2009 - 2022
DESCRIPTION:Rasanbleman | Culture in Place: The Evolution of Haiti Cultural Exchange 2009 – 2022; a photography and archive exhibition from HCX programs featuring Mc Alexander Ciceron\, Paul Corbanese\, Liz Gauthier\, Richard Louissaint\, Jocelyn McCalla\, Keylah Mellon\, Tequila Minsky\, and Claire J. Saintil.\nOn view until November 17th\, 2024\nHaiti Cultural Exchange\, 558 St. John’s Pl\, Brooklyn NY 11238 \nGallery Hours\nThursday – Sunday\, 1pm – 6pm\nWednesdays by appointment only \n  \nCo-Curated by Steven Baboun and Kassandra L. Khalil\nArchival Manager\, Micaela Walker\nGraphic Design\, Kathryn Dreier \nHCX is delighted to present our first exhibition in the new Haiti Cultural Exchange Gallery as part of our expanded Vizyon Atistik programming. Rasanbleman | Culture in Place  will highlight our community history with those who have captured our story. Rasanbleman | Culture in Place will feature the work of HCX’s documenting photographers alongside vivid moments from our Archive. Through the lens\, this group of artists present their core snapshots of the memories\, joy\, and growing visions for New York’s Haitian culture in action. \nRasanbleman is a gathering – of ideas\, of actions\, of energies\, of bodies – focused and reshaping to share space together. Gina Athena Ulysse describes rasanblaj as an “assembly\, compilation\, enlisting\, regrouping”. When assembling together\, how does a community knit moments in time and place to the fabric of collective memory? \nOur presence in community is the core of the archive. Ourselves as creators\, storytellers\, and witnesses are the originating thread. Holding both heritage and evolution\, we mark and strengthen our arrangements to contemporary and future visions of our culture. \nRasanbleman | Culture in Place: The Evolution of Haiti Cultural Exchange 2009 – 2022 will highlight our community’s history with those who have helped capture the texture of gatherings in the Haiti Cultural Exchange story featuring the work of HCX’s documenting photographers alongside vivid moments from our Archive.  \nThrough the lens\, photographers Mc Alexander Ciceron\, Paul Corbanese\, Liz Gauthier\, Richard Louissaint\, Jocelyn McCalla\, Keylah Mellon\, Tequila Minsky\, and Claire J. Saintil interwork their core snapshots of the memories\, joy\, and the growing visions for New York’s Haitian culture in action. Alongside these artists’ work\, Rasanbleman | Culture in Place will present ephemera from Haiti Cultural Exchange’s presenting history\, marking pivotal moments in the continued emergence and visibility of Haitian creativity in New York City. \nRasanbleman | Culture in Place builds off Haiti Cultural Exchange’s current digital and print archive initiative. Spanning the period from 2009–2022\, Haiti Cultural Exchange (HCX) is highlighting the vibrancy of the Haitian community\, culture\, and heritage in a printed anthology and web project. \nThe online digital archive will feature unique documentation of the creative movement in New York City’s Haitian cultural community. View the online archive preview here!
URL:https://haiticulturalx.org/event/rasanbleman-culture-in-place-the-evolution-of-haiti-cultural-exchange-2009-2022/
LOCATION:Haiti Cultural Exchange\, 35 Lafayette Ave\, Brooklyn\, NY\, 11217\, United States
ATTACH;FMTTYPE=image/png:https://haiticulturalx.org/wp-content/uploads/2024/08/HCX_Graphics_VizyonAtistik_HCX-Gallery_Fall24_HCX-Site-Event-Featured-Image-2.png
END:VEVENT
BEGIN:VEVENT
DTSTART;VALUE=DATE:20240912
DTEND;VALUE=DATE:20241118
DTSTAMP:20260421T135923
CREATED:20240917T034525Z
LAST-MODIFIED:20240917T034525Z
UID:15073-1726099200-1731887999@haiticulturalx.org
SUMMARY:Zarita Zevallos | Uprooted: Haitian Diaspora and Displacement.
DESCRIPTION:On view now in the HCX Studio is an exhibition by Zarita Zevallos entitled Uprooted: Haitian Diaspora and Displacement\nUprooted: Haitian Diaspora and Displacement explores the impact of ongoing challenges faced by Haitians\, particularly in the context of gang violence\, financial and political instability.  Through visuals and interactive installations\, visitors are invited to witness the reality and struggles of the Haitian community forced to flee their homeland in search of safety and opportunity\, as they navigate displacement\, adapt to new environments\, and strive to preserve their cultural heritage. “Uprooted” sheds light on the complexities of forced migration\, highlighting the human experience behind the headlines and offering a poignant reflection on solidarity\, resilience\, and the pursuit of a better future amidst adversity. Recently\, over 600\,000 people were displaced due to gang violence; and over 12\,000 refugee camps currently exist throughout the capital. Drawing on the words of Frantz Fanon “Sometimes the eyes of a nation are opened suddenly\, and they see that their entire structure is rotten and that they must begin again.” \nOn view until November 17th\, 2024\nHaiti Cultural Exchange\, 558 St. John’s Pl\, Brooklyn NY 11238\n \nGallery Hours\nThursday – Sunday\, 1pm–6pm\nWednesday by appointment only. \n— \nABOUT THE ARTIST\nZarita Zevallos\, a Haitian Photographer and Architect based in Brooklyn\, New York\, is renowned for her distinctive artistic approach. Her work merges hand editing and superimposing photographs of darker-skinned bodies with powerful materials like thread\, bullets\, glass\, and barbwire\, among others. Through her art\, she delves into themes of identity\, gender roles\, crimes committed by nations\, non-conformism\, and political or ideological authoritarianism. Her objective goes beyond denouncing\, educating\, and raising awareness. She aspires to ignite movement and incite change\, pushing the limits of expression and inspiring transformative action through her thought-provoking creations.
URL:https://haiticulturalx.org/event/zarita-zevallos-uprooted-haitian-diaspora-and-displacement/
LOCATION:Haiti Cultural Exchange\, 35 Lafayette Ave\, Brooklyn\, NY\, 11217\, United States
ATTACH;FMTTYPE=image/png:https://haiticulturalx.org/wp-content/uploads/2024/08/HCX_Graphics_VizyonAtistik_ZaritaZevallos_Fall24_HCX-Site-Event-Featured-Image-1.png
END:VEVENT
BEGIN:VEVENT
DTSTART;TZID=America/New_York:20241102T150000
DTEND;TZID=America/New_York:20241102T170000
DTSTAMP:20260421T135923
CREATED:20241018T011636Z
LAST-MODIFIED:20241019T013828Z
UID:15301-1730559600-1730566800@haiticulturalx.org
SUMMARY:Haiti x New York Vodou Song Workshop featuring Renette Désir
DESCRIPTION:Join Haiti-based artist Renette Désir for a traditional Vodou song workshop to learn and sing heritage rhythms as part of her Haiti X New York residency.\n  \nSaturday\, November 2\n3-5pm\nRegistration required | Limited Capacity \n  \nRenette Desir’s lifelong dedication to her country and its culture has produced unique and powerful collaborations with cultural icons including her mentor Yole Dérose\, Jean-Claude Martineau\, and Pierre Rigaud Chery. Strongly influenced by gospel songs she grew up singing\, she is similarly drawn to the Jamaican reggae her brother made resound throughout their house. Later\, her traditional dance practice with Haiti Tchaka Danse introduced her to the pantheon of Haitian folk rhythms. This diversity in genres undoubtedly shaped her music to reflect a style of her own. Désir recently released her third album\, a collaboration with Fiorini titled “YO ANPIL”. \n  \nHaiti X New York (HXNY) is a program of week-long residencies that brings Haiti-based artists to New York to present their work and engage with Diaspora and broader NYC audiences. \nArtists participate in workshops\, panel discussions\, and culminating presentations. HXNY narrows the physical and cultural distance between Haitians and Haitian-Americans and lends new insights to historical and current concerns of Haitians in and out of the Diaspora. At the same time\, the program introduces New York audiences to Haitian artists with whom they may not be familiar. \n 
URL:https://haiticulturalx.org/event/haiti-x-new-york-vodou-song-workshop-featuring-renette-desir/
LOCATION:Haiti Cultural Exchange\, 35 Lafayette Ave\, Brooklyn\, NY\, 11217\, United States
CATEGORIES:HaitixNYC
ATTACH;FMTTYPE=image/png:https://haiticulturalx.org/wp-content/uploads/2024/10/HCX_Graphics_HaitiXNY_FY25_Workshop_HCX-Site-Event-Featured-Image.png
END:VEVENT
BEGIN:VEVENT
DTSTART;TZID=America/New_York:20241107T180000
DTEND;TZID=America/New_York:20241107T210000
DTSTAMP:20260421T135923
CREATED:20241018T014050Z
LAST-MODIFIED:20241018T014050Z
UID:15307-1731002400-1731013200@haiticulturalx.org
SUMMARY:Mizik Ayiti! featuring Renette Désir
DESCRIPTION:Haiti-based vocalist & dancer Renette Désir will bring her resonant and powerful sound to Brooklyn! Join Haiti Cultural Exchange for a one-of-a-kind evening concert followed by a short discussion with the artist. \n  \nThursday\, November 7\, 2024 | 6-9pm\n6-7pm Reception\n7-8pm Performance\n8-9pm An n Pale \n  \nRenette Desir’s lifelong dedication to her country and its culture has produced unique and powerful collaborations with cultural icons including her mentor Yole Dérose\, Jean-Claude Martineau\, and Pierre Rigaud Chery. Strongly influenced by gospel songs she grew up singing\, she is similarly drawn to the Jamaican reggae her brother made resound throughout their house. Later\, her traditional dance practice with Haiti Tchaka Danse introduced her to the pantheon of Haitian folk rhythms. This diversity in genres undoubtedly shaped her music to reflect a style of her own. Désir recently released her third album\, a collaboration with Fiorini titled “YO ANPIL”. \n  \nThis Mizik Ayiti Concert is presented as part of Haiti X New York. \nHaiti X New York (HXNY) is a program of week-long residencies that brings Haiti-based artists to New York to present their work and engage with Diaspora and broader NYC audiences. \nArtists participate in workshops\, panel discussions\, and culminating presentations. HXNY narrows the physical and cultural distance between Haitians and Haitian-Americans and lends new insights to historical and current concerns of Haitians in and out of the Diaspora. At the same time\, the program introduces New York audiences to Haitian artists they may not be familiar with. \nFunding provided\, in part\, by Howard Gilman and NEA.  \n \n 
URL:https://haiticulturalx.org/event/mizik-ayiti-featuring-renette-desir/
LOCATION:Haiti Cultural Exchange\, 35 Lafayette Ave\, Brooklyn\, NY\, 11217\, United States
CATEGORIES:HaitixNYC,mizik ayiti 2024
ATTACH;FMTTYPE=image/png:https://haiticulturalx.org/wp-content/uploads/2024/10/HCX_Graphics_MIZIKAYITI_FY25_HCXEvent_RENETTEDESIR.png
END:VEVENT
BEGIN:VEVENT
DTSTART;TZID=America/New_York:20241109T140000
DTEND;TZID=America/New_York:20241109T160000
DTSTAMP:20260421T135923
CREATED:20241023T022430Z
LAST-MODIFIED:20241031T040007Z
UID:15324-1731160800-1731168000@haiticulturalx.org
SUMMARY:Ti Atis Second Saturdays with traditional Haitian dance educator Jessica St. Vil-Ulysse
DESCRIPTION:Join Jessica St. Vil-Ulysse for an afternoon dance class focused on traditional Haitian rhythms: Ibo\, Konbit\, Rara\, and Yanvalou. Touch and move to learn using music\, imagery\, and storytelling!\nSaturday\, November 9th\n2-4pm\nBrooklyn Children’s Museum\n145 Brooklyn Ave\, Brooklyn\, NY 11213 \nAs a special offer for the HCX community\, the Brooklyn Children’s Museum is offering FREE admission for 20 people.\nLimit 3 tickets per family. (Tickets will be held at the counter on the day of.)\nRSVP below! \nAttendance free with museum admission.\nIf free HCX Community RSVP is no longer available on this page\, please purchase a ticket to the Brooklyn Children’s Museum here ».\nSpaces limited. \n— \nABOUT \nTi Atis returns to the Brooklyn Children’s Museum for a new season of interactive youth and family programming! Ti Atis (Little Artists) engages youth of Haitian descent and their peers with Haitian history and heritage via the arts\, giving young people the tools to build an inclusive and culturally informed future as they learn about diverse art forms from professional Haitian artists. Happening the second Saturday of every month from November 2024 to May 2025.
URL:https://haiticulturalx.org/event/ti-atis-second-saturdays-with-traditional-haitian-dance-educator-jessica-st-vil-ulysse/
LOCATION:Brooklyn Children’s Museum\, 145 Brooklyn Avenue\, Brooklyn\, New York\, 11213
CATEGORIES:Ti Atis
ATTACH;FMTTYPE=image/png:https://haiticulturalx.org/wp-content/uploads/2024/10/HCX_Graphics_FY25_TiAtis_JessicaSt.Vil-Ulysse_HCX-Site-Event-Featured-Image.png
END:VEVENT
BEGIN:VEVENT
DTSTART;TZID=America/New_York:20241113T180000
DTEND;TZID=America/New_York:20241113T210000
DTSTAMP:20260421T135923
CREATED:20241023T013219Z
LAST-MODIFIED:20241113T014818Z
UID:15318-1731520800-1731531600@haiticulturalx.org
SUMMARY:Vizyon Atistik | Workshop with the Artist: Tactile Photo Editing with Zarita Zevallos
DESCRIPTION:Join Haiti Cultural Exchange’s Vizyon Atistik Artist\, Zarita Zevallos\, for a hands-on workshop learning unique photo editing techniques.\nWednesday\, November 13\n6-8pm\nHaiti Cultural Exchange\n558 St Johns Place \nRegistration required | Limited Capacity: 15 participants\n \nIn this hands-on arts workshop\, participants will manipulate photographs of the artist’s original work\, experimenting with different techniques and materials to simulate the process of photo editing that Zevallos uses in her series Uprooted: Haitian Diaspora and Displacement currently on view in the HCX Studio. \nParticipants will engage with the art in a tactile way\, exploring creative expression while transforming Zevallos’ images into creation of their own and gaining insight into the artistic process behind the artist’s editing technique. \nAll proceeds support HCX and workshop materials! Mèsi pou sipò nou! \n— \nABOUT THE ARTIST \nZarita Zevallos\, a Haitian Photographer and Architect based in Brooklyn\, New York\, is renowned for her distinctive artistic approach. Her work merges hand editing and superimposing photographs of darker-skinned bodies with powerful materials like thread\, bullets\, glass\, and barbwire\, among others. Through her art\, she delves into themes of identity\, gender roles\, crimes committed by nations\, non-conformism\, and political or ideological authoritarianism. Her objective goes beyond denouncing\, educating\, and raising awareness. She aspires to ignite movement and incite change\, pushing the limits of expression and inspiring transformative action through her thought-provoking creations.
URL:https://haiticulturalx.org/event/vizyon-atistik-workshop-with-the-artist-tactile-photo-editing-with-zarita-zevallos/
LOCATION:Haiti Cultural Exchange\, 35 Lafayette Ave\, Brooklyn\, NY\, 11217\, United States
CATEGORIES:Vizyon Atistik
ATTACH;FMTTYPE=image/png:https://haiticulturalx.org/wp-content/uploads/2024/10/HCX_Graphics_VizyonAtistik_ZaritaZevallos_FY25_HCX-Site-Event-Featured-Image_Workshop.png
END:VEVENT
END:VCALENDAR